Workbook

Sheet Investitionen
A1: Finanzielle Planung der selbstständigen Tätigkeit XXX - Investitionen
A3: Investitionen
B4: Anfangs-investitionen | C4: 1. Monat | D4: 2. Monat | E4: 3. Monat | F4: 4. Monat | G4: 5. Monat | H4: 6. Monat | I4: 7. Monat | J4: 8. Monat | K4: 9. Monat | L4: 10. Monat | M4: 11. Monat | N4: 12. Monat | O4: 1. GJ | P4: 2. GJ | Q4: 3. GJ
A5: Computer und Bildschirme | B5: 500 | C5: 0 | D5: 0 | E5: 0 | F5: 0 | G5: 0 | H5: 0 | I5: 0 | J5: 0 | K5: 0 | L5: 0 | M5: 0 | N5: 0 | O5: =SUM(B5:N5) -> 500 | P5: 0 | Q5: 0
A6: Computer Zubehör | B6: 100 | C6: 0 | D6: 0 | E6: 0 | F6: 0 | G6: 0 | H6: 0 | I6: 0 | J6: 0 | K6: 0 | L6: 0 | M6: 0 | N6: 0 | O6: =SUM(B6:N6) -> 100 | P6: 0 | Q6: 0
A7: Software | B7: 100 | C7: 0 | D7: 0 | E7: 0 | F7: 0 | G7: 0 | H7: 0 | I7: 0 | J7: 0 | K7: 0 | L7: 0 | M7: 0 | N7: 0 | O7: =SUM(B7:N7) -> 100 | P7: 0 | Q7: 0
A8: Multifunktionsgerät | B8: 70 | C8: 0 | D8: 0 | E8: 0 | F8: 0 | G8: 0 | H8: 0 | I8: 0 | J8: 0 | K8: 0 | L8: 0 | M8: 0 | N8: 0 | O8: =SUM(B8:N8) -> 70 | P8: 0 | Q8: 0
A9: Telefon | B9: 50 | C9: 0 | D9: 0 | E9: 0 | F9: 0 | G9: 0 | H9: 0 | I9: 0 | J9: 0 | K9: 0 | L9: 0 | M9: 0 | N9: 0 | O9: =SUM(B9:N9) -> 50 | P9: 0 | Q9: 0
A10: Kabel | B10: 20 | C10: 0 | D10: 0 | E10: 0 | F10: 0 | G10: 0 | H10: 0 | I10: 0 | J10: 0 | K10: 0 | L10: 0 | M10: 0 | N10: 0 | O10: =SUM(B10:N10) -> 20 | P10: 0 | Q10: 0
A11: Laptop | B11: 200 | C11: 0 | D11: 0 | E11: 0 | F11: 0 | G11: 0 | H11: 0 | I11: 0 | J11: 0 | K11: 0 | L11: 0 | M11: 0 | N11: 0 | O11: =SUM(B11:N11) -> 200 | P11: 200 | Q11: 0
A12: Tische | B12: 300 | C12: 0 | D12: 0 | E12: 0 | F12: 0 | G12: 0 | H12: 0 | I12: 0 | J12: 0 | K12: 0 | L12: 0 | M12: 0 | N12: 0 | O12: =SUM(B12:N12) -> 300 | P12: 0 | Q12: 0
A13: Stühle | B13: 200 | C13: 0 | D13: 0 | E13: 0 | F13: 0 | G13: 0 | H13: 0 | I13: 0 | J13: 0 | K13: 0 | L13: 0 | M13: 0 | N13: 0 | O13: =SUM(B13:N13) -> 200 | P13: 0 | Q13: 0
A14: Firmenwagen | B14: 0 | C14: 0 | D14: 0 | E14: 0 | F14: 0 | G14: 0 | H14: 0 | I14: 0 | J14: 0 | K14: 0 | L14: 0 | M14: 0 | N14: 0 | O14: =SUM(B14:N14) -> 0 | P14: 0 | Q14: 0
A15: Schränke | B15: 100 | C15: 0 | D15: 0 | E15: 0 | F15: 0 | G15: 0 | H15: 0 | I15: 0 | J15: 0 | K15: 0 | L15: 0 | M15: 0 | N15: 0 | O15: =SUM(B15:N15) -> 100 | P15: 0 | Q15: 0
A16: Veranstaltungsausrüstung | B16: 500 | C16: 0 | D16: 0 | E16: 0 | F16: 0 | G16: 0 | H16: 0 | I16: 0 | J16: 0 | K16: 0 | L16: 0 | M16: 0 | N16: 0 | O16: =SUM(B16:N16) -> 500 | P16: 500 | Q16: 500
... A19: Lampen | B19: 50 | C19: 0 | D19: 0 | E19: 0 | F19: 0 | G19: 0 | H19: 0 | I19: 0 | J19: 0 | K19: 0 | L19: 0 | M19: 0 | N19: 0 | O19: =SUM(B19:N19) -> 50 | P19: 0 | Q19: 0
A20: Investitionen | B20: =SUM(B5:B19) -> 2990 | C20: =SUM(C5:C19) -> 0 | D20: =SUM(D5:D19) -> 0 | E20: =SUM(E5:E19) -> 0 | F20: =SUM(F5:F19) -> 0 | G20: =SUM(G5:G19) -> 0 | H20: =SUM(H5:H19) -> 0 | I20: =SUM(I5:I19) -> 0 | ... N20: =SUM(N5:N19) -> 0 | O20: =SUM(B20:N20) -> 2990 | P20: =SUM(P5:P19) -> 1200 | Q20: =SUM(Q5:Q19) -> 1000

Sheet Finanzplan
A1: Finanzielle Planung der selbstständigen Tätigkeit XXX - Finanzplan
A3: Parameter
A4: Zinssatz für Zinsgewinne | B4: 0.01
A5: Zinssatz für Zinsausgaben | B5: 0.11
A7: Eröffnungsbilanz
A8: Investitionen | B8: =Investitionen!B20 -> 2990
A9: Anlagevermögen | B9: =B8 -> 2990
A10: Forderung an Gesellschafter | B10: 0
A11: Bank | B11: =B14-B8-B10 -> 7010
A12: Umlaufvermögen | B12: =B11+B10 -> 7010
A13: Aktiva | B13: =B9+B12 -> 10000
A14: Eigenkapital | B14: 10000
A15: Langfristige Verbindlichkeiten | B15: 0 | D15: new | E15: 0 | F15: 0 | G15: 0.08 | H15: 0.09 | I15: 0.095 | J15: 0.0975 | K15: 0.1 | L15: 0.1025 | M15: 0.105 | N15: 0.1075 | O15: 0.11 | P15: 0.1125 | Q15: =SUM(E15:P15) -> 1
A16: Passiva | B16: =B14+B15 -> 10000 | E16: 0.07 | F16: 0.0725 | G16: 0.075 | H16: 0.075 | I16: 0.0775 | J16: 0.08 | K16: 0.085 | L16: 0.0875 | M16: 0.09 | N16: 0.0925 | O16: 0.095 | P16: 0.1 | Q16: =SUM(E16:P16) -> 1
A18: Erwartete Umsätze
B19: 1. GJ
B20: 1. Monat | C20: 2. Monat | D20: 3. Monat | E20: 4. Monat | F20: 5. Monat | G20: 6. Monat | H20: 7. Monat | I20: 8. Monat | J20: 9. Monat | K20: 10. Monat | L20: 11. Monat | M20: 12. Monat | N20: Gesamt | O20: 2. GJ | P20: 3. GJ
A21: Umsatz aus Handelsprovisionen | B21: =Umsatzherleitung!C14 -> 0 | C21: =Umsatzherleitung!D14 -> 0 | D21: =Umsatzherleitung!E14 -> 0 | E21: =Umsatzherleitung!F14 -> 0 | F21: =Umsatzherleitung!G14 -> 0 | G21: =Umsatzherleitung!H14 -> 0 | H21: =Umsatzherleitung!I14 -> 0 | I21: =Umsatzherleitung!J14 -> 0 | ... N21: =Umsatzherleitung!O14 -> 0 | O21: =N27 -> 0 | P21: =N33 -> 0
A22: Umsatz aus Dienstleistungen | B22: =Umsatzherleitung!C136 -> 0 | C22: =Umsatzherleitung!D136 -> 0 | D22: =Umsatzherleitung!E136 -> 5760 | E22: =Umsatzherleitung!F136 -> 8370 | F22: =Umsatzherleitung!G136 -> 9110 | G22: =Umsatzherleitung!H136 -> 9240 | H22: =Umsatzherleitung!I136 -> 9470 | I22: =Umsatzherleitung!J136 -> 9600 | ... N22: =Umsatzherleitung!O136 -> 91410 | O22: =N28 -> 157227 | P22: =N34 -> 226116
A23: Gesamtumsätze | B23: =SUM(B21:B22) -> 0 | C23: =SUM(C21:C22) -> 0 | D23: =SUM(D21:D22) -> 5760 | E23: =SUM(E21:E22) -> 8370 | F23: =SUM(F21:F22) -> 9110 | G23: =SUM(G21:G22) -> 9240 | H23: =SUM(H21:H22) -> 9470 | I23: =SUM(I21:I22) -> 9600 | ... P23: =SUM(P21:P22) -> 226116 | S23: =N216 -> 56562.546 | T23: =O216 -> 88744.897 | U23: =P216 -> 109587.62
B25: 2. GJ
B26: 1. Monat | C26: 2. Monat | D26: 3. Monat | E26: 4. Monat | F26: 5. Monat | G26: 6. Monat | H26: 7. Monat | I26: 8. Monat | J26: 9. Monat | K26: 10. Monat | L26: 11. Monat | M26: 12. Monat | N26: Gesamt
A27: Umsatz aus Handelsprovisionen | B27: =Umsatzherleitung!C25 -> 0 | C27: =Umsatzherleitung!D25 -> 0 | D27: =Umsatzherleitung!E25 -> 0 | E27: =Umsatzherleitung!F25 -> 0 | F27: =Umsatzherleitung!G25 -> 0 | G27: =Umsatzherleitung!H25 -> 0 | H27: =Umsatzherleitung!I25 -> 0 | I27: =Umsatzherleitung!J25 -> 0 | ... N27: =Umsatzherleitung!O25 -> 0 | S27: =O21/N21-1 -> #DIV/0! | T27: =P21/O21-1 -> #DIV/0!
A28: Umsatz aus Dienstleistungen | B28: =Umsatzherleitung!C148 -> 9943.5 | C28: =Umsatzherleitung!D148 -> 10143 | D28: =Umsatzherleitung!E148 -> 10353 | E28: =Umsatzherleitung!F148 -> 10353 | F28: =Umsatzherleitung!G148 -> 10573.5 | G28: =Umsatzherleitung!H148 -> 10783.5 | H28: =Umsatzherleitung!I148 -> 14889 | I28: =Umsatzherleitung!J148 -> 15246 | ... N28: =Umsatzherleitung!O148 -> 157227 | S28: =O22/N22-1 -> 0.72001969 | T28: =P22/O22-1 -> 0.43814994
A29: Gesamtumsätze | B29: =SUM(B27:B28) -> 9943.5 | C29: =SUM(C27:C28) -> 10143 | D29: =SUM(D27:D28) -> 10353 | E29: =SUM(E27:E28) -> 10353 | F29: =SUM(F27:F28) -> 10573.5 | G29: =SUM(G27:G28) -> 10783.5 | H29: =SUM(H27:H28) -> 14889 | I29: =SUM(I27:I28) -> 15246 | ... N29: =SUM(N27:N28) -> 157227
B31: 3. GJ
B32: 1. Monat | C32: 2. Monat | D32: 3. Monat | E32: 4. Monat | F32: 5. Monat | G32: 6. Monat | H32: 7. Monat | I32: 8. Monat | J32: 9. Monat | K32: 10. Monat | L32: 11. Monat | M32: 12. Monat | N32: Gesamt
A33: Umsatz aus Handelsprovisionen | B33: =Umsatzherleitung!C36 -> 0 | C33: =Umsatzherleitung!D36 -> 0 | D33: =Umsatzherleitung!E36 -> 0 | E33: =Umsatzherleitung!F36 -> 0 | F33: =Umsatzherleitung!G36 -> 0 | G33: =Umsatzherleitung!H36 -> 0 | H33: =Umsatzherleitung!I36 -> 0 | I33: =Umsatzherleitung!J36 -> 0 | ... N33: =Umsatzherleitung!O36 -> 0
A34: Umsatz aus Dienstleistungen | B34: =Umsatzherleitung!C160 -> 16929 | C34: =Umsatzherleitung!D160 -> 17149 | D34: =Umsatzherleitung!E160 -> 17611 | E34: =Umsatzherleitung!F160 -> 17611 | F34: =Umsatzherleitung!G160 -> 17831 | G34: =Umsatzherleitung!H160 -> 18205 | H34: =Umsatzherleitung!I160 -> 18876 | I34: =Umsatzherleitung!J160 -> 19690 | ... N34: =Umsatzherleitung!O160 -> 226116
A35: Gesamtumsätze | B35: =SUM(B33:B34) -> 16929 | C35: =SUM(C33:C34) -> 17149 | D35: =SUM(D33:D34) -> 17611 | E35: =SUM(E33:E34) -> 17611 | F35: =SUM(F33:F34) -> 17831 | G35: =SUM(G33:G34) -> 18205 | H35: =SUM(H33:H34) -> 18876 | I35: =SUM(I33:I34) -> 19690 | ... N35: =SUM(N33:N34) -> 226116
A37: GHOST H | B37: =E15*$N$37 -> 0 | C37: =F15*$N$37 -> 0 | D37: =G15*$N$37 -> 0 | E37: =H15*$N$37 -> 0 | F37: =I15*$N$37 -> 0 | G37: =J15*$N$37 -> 0 | H37: =K15*$N$37 -> 0 | I37: =L15*$N$37 -> 0 | ... M37: =P15*$N$37 -> 0 | N37: 0
B38: =E16*$N$38 -> 0 | C38: =F16*$N$38 -> 0 | D38: =G16*$N$38 -> 0 | E38: =H16*$N$38 -> 0 | F38: =I16*$N$38 -> 0 | G38: =J16*$N$38 -> 0 | H38: =K16*$N$38 -> 0 | I38: =L16*$N$38 -> 0 | ... M38: =P16*$N$38 -> 0 | N38: 0
B39: =E16*$N$39 -> 0 | C39: =F16*$N$39 -> 0 | D39: =G16*$N$39 -> 0 | E39: =H16*$N$39 -> 0 | F39: =I16*$N$39 -> 0 | G39: =J16*$N$39 -> 0 | H39: =K16*$N$39 -> 0 | I39: =L16*$N$39 -> 0 | ... M39: =P16*$N$39 -> 0 | N39: 0
A41: GHOST B | B41: =E15*$N$41 -> 0 | C41: =F15*$N$41 -> 0 | D41: =G15*$N$41 -> 8000 | E41: =H15*$N$41 -> 9000 | F41: =I15*$N$41 -> 9500 | G41: =J15*$N$41 -> 9750 | H41: =K15*$N$41 -> 10000 | I41: =L15*$N$41 -> 10250 | ... M41: =P15*$N$41 -> 11250 | N41: 100000
B42: =E16*$N$42 -> 10500 | C42: =F16*$N$42 -> 10875 | D42: =G16*$N$42 -> 11250 | E42: =H16*$N$42 -> 11250 | F42: =I16*$N$42 -> 11625 | G42: =J16*$N$42 -> 12000 | H42: =K16*$N$42 -> 12750 | I42: =L16*$N$42 -> 13125 | ... M42: =P16*$N$42 -> 15000 | N42: 150000
B43: =E16*$N$43 -> 14700 | C43: =F16*$N$43 -> 15225 | D43: =G16*$N$43 -> 15750 | E43: =H16*$N$43 -> 15750 | F43: =I16*$N$43 -> 16275 | G43: =J16*$N$43 -> 16800 | H43: =K16*$N$43 -> 17850 | I43: =L16*$N$43 -> 18375 | ... M43: =P16*$N$43 -> 21000 | N43: 210000
A45: GHOST S | B45: =B37+B41 -> 0 | C45: =C37+C41 -> 0 | D45: =D37+D41 -> 8000 | E45: =E37+E41 -> 9000 | F45: =F37+F41 -> 9500 | G45: =G37+G41 -> 9750 | H45: =H37+H41 -> 10000 | I45: =I37+I41 -> 10250 | ... N45: =N37+N41 -> 100000
B46: =B38+B42 -> 10500 | C46: =C38+C42 -> 10875 | D46: =D38+D42 -> 11250 | E46: =E38+E42 -> 11250 | F46: =F38+F42 -> 11625 | G46: =G38+G42 -> 12000 | H46: =H38+H42 -> 12750 | I46: =I38+I42 -> 13125 | ... N46: =N38+N42 -> 150000
B47: =B39+B43 -> 14700 | C47: =C39+C43 -> 15225 | D47: =D39+D43 -> 15750 | E47: =E39+E43 -> 15750 | F47: =F39+F43 -> 16275 | G47: =G39+G43 -> 16800 | H47: =H39+H43 -> 17850 | I47: =I39+I43 -> 18375 | ... N47: =N39+N43 -> 210000
A49: Variable Kosten Handel (Durchschnitt)
...

Sheet Umsatzherleitung
A1: Finanzielle Planung der selbstständigen Tätigkeit XXX - Umsatzplan
A3: Umsatz aus Handelsvermittlung
B5: 1. GJ
B6: Anteil | C6: 1. Monat | D6: 2. Monat | E6: 3. Monat | F6: 4. Monat | G6: 5. Monat | H6: 6. Monat | I6: 7. Monat | J6: 8. Monat | K6: 9. Monat | L6: 10. Monat | M6: 11. Monat | N6: 12. Monat | O6: Gesamt
A7: =A45 -> Fassadenelemente | B7: =O7/$O$14 -> #DIV/0! | C7: =C45*0.1 -> 0 | D7: =D45*0.1 -> 0 | E7: =E45*0.1 -> 0 | F7: =F45*0.1 -> 0 | G7: =G45*0.1 -> 0 | H7: =H45*0.1 -> 0 | I7: =I45*0.1 -> 0 | J7: =J45*0.1 -> 0 | ... O7: =O45*0.1 -> 0
A8: =A46 -> Fensterelemente | B8: =O8/$O$14 -> #DIV/0! | C8: =C46*0.1 -> 0 | D8: =D46*0.1 -> 0 | E8: =E46*0.1 -> 0 | F8: =F46*0.1 -> 0 | G8: =G46*0.1 -> 0 | H8: =H46*0.1 -> 0 | I8: =I46*0.1 -> 0 | J8: =J46*0.1 -> 0 | ... O8: =O46*0.1 -> 0
A9: =A47 -> Türelemente | B9: =O9/$O$14 -> #DIV/0! | C9: =C47*0.1 -> 0 | D9: =D47*0.1 -> 0 | E9: =E47*0.1 -> 0 | F9: =F47*0.1 -> 0 | G9: =G47*0.1 -> 0 | H9: =H47*0.1 -> 0 | I9: =I47*0.1 -> 0 | J9: =J47*0.1 -> 0 | ... O9: =O47*0.1 -> 0
A10: =A48 -> Dämmstoffe | B10: =O10/$O$14 -> #DIV/0! | C10: =C48*0.1 -> 0 | D10: =D48*0.1 -> 0 | E10: =E48*0.1 -> 0 | F10: =F48*0.1 -> 0 | G10: =G48*0.1 -> 0 | H10: =H48*0.1 -> 0 | I10: =I48*0.1 -> 0 | J10: =J48*0.1 -> 0 | ... O10: =O48*0.1 -> 0
A11: =A49 -> Dichtstoffe | B11: =O11/$O$14 -> #DIV/0! | C11: =C49*0.1 -> 0 | D11: =D49*0.1 -> 0 | E11: =E49*0.1 -> 0 | F11: =F49*0.1 -> 0 | G11: =G49*0.1 -> 0 | H11: =H49*0.1 -> 0 | I11: =I49*0.1 -> 0 | J11: =J49*0.1 -> 0 | ... O11: =O49*0.1 -> 0
A12: =A50 -> Baustoffzusätze | B12: =O12/$O$14 -> #DIV/0! | C12: =C50*0.1 -> 0 | D12: =D50*0.1 -> 0 | E12: =E50*0.1 -> 0 | F12: =F50*0.1 -> 0 | G12: =G50*0.1 -> 0 | H12: =H50*0.1 -> 0 | I12: =I50*0.1 -> 0 | J12: =J50*0.1 -> 0 | ... O12: =O50*0.1 -> 0
A13: =A51 -> Sonstiges | B13: =O13/$O$14 -> #DIV/0! | C13: =C51*0.1 -> 0 | D13: =D51*0.1 -> 0 | E13: =E51*0.1 -> 0 | F13: =F51*0.1 -> 0 | G13: =G51*0.1 -> 0 | H13: =H51*0.1 -> 0 | I13: =I51*0.1 -> 0 | J13: =J51*0.1 -> 0 | ... O13: =O51*0.1 -> 0
A14: Summe Umsatz | B14: =SUM(B7:B12) -> #DIV/0! | C14: =SUM(C7:C13) -> 0 | D14: =SUM(D7:D13) -> 0 | E14: =SUM(E7:E13) -> 0 | F14: =SUM(F7:F13) -> 0 | G14: =SUM(G7:G13) -> 0 | H14: =SUM(H7:H13) -> 0 | I14: =SUM(I7:I13) -> 0 | J14: =SUM(J7:J13) -> 0 | ... O14: =SUM(O7:O13) -> 0
B16: 2. GJ
B17: Anteil | C17: 1. Monat | D17: 2. Monat | E17: 3. Monat | F17: 4. Monat | G17: 5. Monat | H17: 6. Monat | I17: 7. Monat | J17: 8. Monat | K17: 9. Monat | L17: 10. Monat | M17: 11. Monat | N17: 12. Monat | O17: Gesamt
A18: =A7 -> Fassadenelemente | B18: =O18/$O$25 -> #DIV/0! | C18: =C57*0.1 -> 0 | D18: =D57*0.1 -> 0 | E18: =E57*0.1 -> 0 | F18: =F57*0.1 -> 0 | G18: =G57*0.1 -> 0 | H18: =H57*0.1 -> 0 | I18: =I57*0.1 -> 0 | J18: =J57*0.1 -> 0 | ... O18: =O57*0.1 -> 0
A19: =A8 -> Fensterelemente | B19: =O19/$O$25 -> #DIV/0! | C19: =C58*0.1 -> 0 | D19: =D58*0.1 -> 0 | E19: =E58*0.1 -> 0 | F19: =F58*0.1 -> 0 | G19: =G58*0.1 -> 0 | H19: =H58*0.1 -> 0 | I19: =I58*0.1 -> 0 | J19: =J58*0.1 -> 0 | ... O19: =O58*0.1 -> 0
A20: =A9 -> Türelemente | B20: =O20/$O$25 -> #DIV/0! | C20: =C59*0.1 -> 0 | D20: =D59*0.1 -> 0 | E20: =E59*0.1 -> 0 | F20: =F59*0.1 -> 0 | G20: =G59*0.1 -> 0 | H20: =H59*0.1 -> 0 | I20: =I59*0.1 -> 0 | J20: =J59*0.1 -> 0 | ... O20: =O59*0.1 -> 0
A21: =A10 -> Dämmstoffe | B21: =O21/$O$25 -> #DIV/0! | C21: =C60*0.1 -> 0 | D21: =D60*0.1 -> 0 | E21: =E60*0.1 -> 0 | F21: =F60*0.1 -> 0 | G21: =G60*0.1 -> 0 | H21: =H60*0.1 -> 0 | I21: =I60*0.1 -> 0 | J21: =J60*0.1 -> 0 | ... O21: =O60*0.1 -> 0
A22: =A11 -> Dichtstoffe | B22: =O22/$O$25 -> #DIV/0! | C22: =C61*0.1 -> 0 | D22: =D61*0.1 -> 0 | E22: =E61*0.1 -> 0 | F22: =F61*0.1 -> 0 | G22: =G61*0.1 -> 0 | H22: =H61*0.1 -> 0 | I22: =I61*0.1 -> 0 | J22: =J61*0.1 -> 0 | ... O22: =O61*0.1 -> 0
A23: =A12 -> Baustoffzusätze | B23: =O23/$O$25 -> #DIV/0! | C23: =C62*0.1 -> 0 | D23: =D62*0.1 -> 0 | E23: =E62*0.1 -> 0 | F23: =F62*0.1 -> 0 | G23: =G62*0.1 -> 0 | H23: =H62*0.1 -> 0 | I23: =I62*0.1 -> 0 | J23: =J62*0.1 -> 0 | ... O23: =O62*0.1 -> 0
A24: =A13 -> Sonstiges | B24: =O24/$O$25 -> #DIV/0! | C24: =C63*0.1 -> 0 | D24: =D63*0.1 -> 0 | E24: =E63*0.1 -> 0 | F24: =F63*0.1 -> 0 | G24: =G63*0.1 -> 0 | H24: =H63*0.1 -> 0 | I24: =I63*0.1 -> 0 | J24: =J63*0.1 -> 0 | ... O24: =O63*0.1 -> 0
A25: Summe Umsatz | B25: =SUM(B18:B23) -> #DIV/0! | C25: =SUM(C18:C24) -> 0 | D25: =SUM(D18:D24) -> 0 | E25: =SUM(E18:E24) -> 0 | F25: =SUM(F18:F24) -> 0 | G25: =SUM(G18:G24) -> 0 | H25: =SUM(H18:H24) -> 0 | I25: =SUM(I18:I24) -> 0 | J25: =SUM(J18:J24) -> 0 | ... O25: =SUM(O18:O24) -> 0
B27: 3. GJ
B28: Anteil | C28: 1. Monat | D28: 2. Monat | E28: 3. Monat | F28: 4. Monat | G28: 5. Monat | H28: 6. Monat | I28: 7. Monat | J28: 8. Monat | K28: 9. Monat | L28: 10. Monat | M28: 11. Monat | N28: 12. Monat | O28: Gesamt
A29: =A7 -> Fassadenelemente | B29: =O29/$O$36 -> #DIV/0! | C29: =C69*0.1 -> 0 | D29: =D69*0.1 -> 0 | E29: =E69*0.1 -> 0 | F29: =F69*0.1 -> 0 | G29: =G69*0.1 -> 0 | H29: =H69*0.1 -> 0 | I29: =I69*0.1 -> 0 | J29: =J69*0.1 -> 0 | ... O29: =O69*0.1 -> 0
A30: =A8 -> Fensterelemente | B30: =O30/$O$36 -> #DIV/0! | C30: =C70*0.1 -> 0 | D30: =D70*0.1 -> 0 | E30: =E70*0.1 -> 0 | F30: =F70*0.1 -> 0 | G30: =G70*0.1 -> 0 | H30: =H70*0.1 -> 0 | I30: =I70*0.1 -> 0 | J30: =J70*0.1 -> 0 | ... O30: =O70*0.1 -> 0
A31: =A9 -> Türelemente | B31: =O31/$O$36 -> #DIV/0! | C31: =C71*0.1 -> 0 | D31: =D71*0.1 -> 0 | E31: =E71*0.1 -> 0 | F31: =F71*0.1 -> 0 | G31: =G71*0.1 -> 0 | H31: =H71*0.1 -> 0 | I31: =I71*0.1 -> 0 | J31: =J71*0.1 -> 0 | ... O31: =O71*0.1 -> 0
A32: =A10 -> Dämmstoffe | B32: =O32/$O$36 -> #DIV/0! | C32: =C72*0.1 -> 0 | D32: =D72*0.1 -> 0 | E32: =E72*0.1 -> 0 | F32: =F72*0.1 -> 0 | G32: =G72*0.1 -> 0 | H32: =H72*0.1 -> 0 | I32: =I72*0.1 -> 0 | J32: =J72*0.1 -> 0 | ... O32: =O72*0.1 -> 0
A33: =A11 -> Dichtstoffe | B33: =O33/$O$36 -> #DIV/0! | C33: =C73*0.1 -> 0 | D33: =D73*0.1 -> 0 | E33: =E73*0.1 -> 0 | F33: =F73*0.1 -> 0 | G33: =G73*0.1 -> 0 | H33: =H73*0.1 -> 0 | I33: =I73*0.1 -> 0 | J33: =J73*0.1 -> 0 | ... O33: =O73*0.1 -> 0
A34: =A12 -> Baustoffzusätze | B34: =O34/$O$36 -> #DIV/0! | C34: =C74*0.1 -> 0 | D34: =D74*0.1 -> 0 | E34: =E74*0.1 -> 0 | F34: =F74*0.1 -> 0 | G34: =G74*0.1 -> 0 | H34: =H74*0.1 -> 0 | I34: =I74*0.1 -> 0 | J34: =J74*0.1 -> 0 | ... O34: =O74*0.1 -> 0
A35: =A13 -> Sonstiges | B35: =O35/$O$36 -> #DIV/0! | C35: =C75*0.1 -> 0 | D35: =D75*0.1 -> 0 | E35: =E75*0.1 -> 0 | F35: =F75*0.1 -> 0 | G35: =G75*0.1 -> 0 | H35: =H75*0.1 -> 0 | I35: =I75*0.1 -> 0 | J35: =J75*0.1 -> 0 | ... O35: =O75*0.1 -> 0
A36: Summe Umsatz | B36: =SUM(B29:B34) -> #DIV/0! | C36: =SUM(C29:C35) -> 0 | D36: =SUM(D29:D35) -> 0 | E36: =SUM(E29:E35) -> 0 | F36: =SUM(F29:F35) -> 0 | G36: =SUM(G29:G35) -> 0 | H36: =SUM(H29:H35) -> 0 | I36: =SUM(I29:I35) -> 0 | J36: =SUM(J29:J35) -> 0 | ... O36: =SUM(O29:O35) -> 0
A38: Volumen der Handelsvermittlung
B40: 1. GJ
B41: Anteil | C41: 1. Monat | D41: 2. Monat | E41: 3. Monat | F41: 4. Monat | G41: 5. Monat | H41: 6. Monat | I41: 7. Monat | J41: 8. Monat | K41: 9. Monat | L41: 10. Monat | M41: 11. Monat | N41: 12. Monat | O41: Gesamt
A42: Tischdecken | B42: 0 | C42: =Finanzplan!B$21*Umsatzherleitung!$B42 -> 0 | D42: =Finanzplan!C$21*Umsatzherleitung!$B42 -> 0 | E42: =Finanzplan!D$21*Umsatzherleitung!$B42 -> 0 | F42: =Finanzplan!E$21*Umsatzherleitung!$B42 -> 0 | G42: =Finanzplan!F$21*Umsatzherleitung!$B42 -> 0 | H42: =Finanzplan!G$21*Umsatzherleitung!$B42 -> 0 | I42: =Finanzplan!H$21*Umsatzherleitung!$B42 -> 0 | J42: =Finanzplan!I$21*Umsatzherleitung!$B42 -> 0 | ... O42: =Finanzplan!N$21*Umsatzherleitung!$B42 -> 0
A43: Holzschüsseln | B43: 0 | C43: =Finanzplan!B$21*Umsatzherleitung!$B43 -> 0 | D43: =Finanzplan!C$21*Umsatzherleitung!$B43 -> 0 | E43: =Finanzplan!D$21*Umsatzherleitung!$B43 -> 0 | F43: =Finanzplan!E$21*Umsatzherleitung!$B43 -> 0 | G43: =Finanzplan!F$21*Umsatzherleitung!$B43 -> 0 | H43: =Finanzplan!G$21*Umsatzherleitung!$B43 -> 0 | I43: =Finanzplan!H$21*Umsatzherleitung!$B43 -> 0 | J43: =Finanzplan!I$21*Umsatzherleitung!$B43 -> 0 | ... O43: =Finanzplan!N$21*Umsatzherleitung!$B43 -> 0
A44: Glasschüsseln | B44: 0 | C44: =Finanzplan!B$21*Umsatzherleitung!$B44 -> 0 | D44: =Finanzplan!C$21*Umsatzherleitung!$B44 -> 0 | E44: =Finanzplan!D$21*Umsatzherleitung!$B44 -> 0 | F44: =Finanzplan!E$21*Umsatzherleitung!$B44 -> 0 | G44: =Finanzplan!F$21*Umsatzherleitung!$B44 -> 0 | H44: =Finanzplan!G$21*Umsatzherleitung!$B44 -> 0 | I44: =Finanzplan!H$21*Umsatzherleitung!$B44 -> 0 | J44: =Finanzplan!I$21*Umsatzherleitung!$B44 -> 0 | ... O44: =Finanzplan!N$21*Umsatzherleitung!$B44 -> 0
A45: =A83 -> Fassadenelemente | B45: =O45/$O$52 -> #DIV/0! | C45: =$C83*B94 -> 0 | D45: =$C83*C94 -> 0 | E45: =$C83*D94 -> 0 | F45: =$C83*E94 -> 0 | G45: =$C83*F94 -> 0 | H45: =$C83*G94 -> 0 | I45: =$C83*H94 -> 0 | J45: =$C83*I94 -> 0 | ... N45: =$C83*M94 -> 0 | O45: =SUM(C45:N45) -> 0
A46: =A84 -> Fensterelemente | B46: =O46/$O$52 -> #DIV/0! | C46: =$C84*B95 -> 0 | D46: =$C84*C95 -> 0 | E46: =$C84*D95 -> 0 | F46: =$C84*E95 -> 0 | G46: =$C84*F95 -> 0 | H46: =$C84*G95 -> 0 | I46: =$C84*H95 -> 0 | J46: =$C84*I95 -> 0 | ... N46: =$C84*M95 -> 0 | O46: =SUM(C46:N46) -> 0
...

Sheet Grafiken
B1: 1. Monat | C1: 2. Monat | D1: 3. Monat | E1: 4. Monat | F1: 5. Monat | G1: 6. Monat | H1: 7. Monat | I1: 8. Monat | J1: 9. Monat | K1: 10. Monat | L1: 11. Monat | M1: 12. Monat | N1: 13. Monat | O1: 14. Monat | P1: 15. Monat | Q1: 16. Monat | R1: 17. Monat | S1: 18. Monat | T1: 19. Monat | U1: 20. Monat | V1: 21. Monat | W1: 22. Monat | X1: 23. Monat | Y1: 24. Monat | Z1: 25. Monat | AA1: 26. Monat | AB1: 27. Monat | AC1: 28. Monat | AD1: 29. Monat | AE1: 30. Monat | AF1: 31. Monat | AG1: 32. Monat | AH1: 33. Monat | AI1: 34. Monat | AJ1: 35. Monat | AK1: 36. Monat
A2: Betriebsergebnis vor Steuern | B2: =Finanzplan!B23 -> 0 | C2: =Finanzplan!C23 -> 0 | D2: =Finanzplan!D23 -> 5760 | E2: =Finanzplan!E23 -> 8370 | F2: =Finanzplan!F23 -> 9110 | G2: =Finanzplan!G23 -> 9240 | H2: =Finanzplan!H23 -> 9470 | I2: =Finanzplan!I23 -> 9600 | ... M2: =Finanzplan!M23 -> 10200 | N2: =Finanzplan!B29 -> 9943.5 | O2: =Finanzplan!C29 -> 10143 | P2: =Finanzplan!D29 -> 10353 | Q2: =Finanzplan!E29 -> 10353 | R2: =Finanzplan!F29 -> 10573.5 | S2: =Finanzplan!G29 -> 10783.5 | T2: =Finanzplan!H29 -> 14889 | U2: =Finanzplan!I29 -> 15246 | ... Y2: =Finanzplan!M29 -> 16810.5 | Z2: =Finanzplan!B35 -> 16929 | AA2: =Finanzplan!C35 -> 17149 | AB2: =Finanzplan!D35 -> 17611 | AC2: =Finanzplan!E35 -> 17611 | AD2: =Finanzplan!F35 -> 17831 | AE2: =Finanzplan!G35 -> 18205 | AF2: =Finanzplan!H35 -> 18876 | AG2: =Finanzplan!I35 -> 19690 | ... AK2: =Finanzplan!M35 -> 21340
B4: 1. GJ | C4: 2. GJ | D4: 3. GJ | F4: 1. GJ | G4: 2. GJ | H4: 3. GJ
A5: EBT (Vorsteuergewinn) | B5: =Finanzplan!S23 -> 56562.546 | C5: =Finanzplan!T23 -> 88744.897 | D5: =Finanzplan!U23 -> 109587.62 | F5: =Finanzplan!N23 -> 91410 | G5: =Finanzplan!O23 -> 157227 | H5: =Finanzplan!P23 -> 226116
